BEGIN:VCALENDAR
VERSION:2.0
PRODID:-//Duchy College - ECPv6.15.20//NONSGML v1.0//EN
CALSCALE:GREGORIAN
METHOD:PUBLISH
X-ORIGINAL-URL:https://www.hlc.org.uk
X-WR-CALDESC:Events for Duchy College
REFRESH-INTERVAL;VALUE=DURATION:PT1H
X-Robots-Tag:noindex
X-PUBLISHED-TTL:PT1H
BEGIN:VTIMEZONE
TZID:Europe/Paris
BEGIN:DAYLIGHT
TZOFFSETFROM:+0100
TZOFFSETTO:+0200
TZNAME:CEST
DTSTART:20250330T010000
END:DAYLIGHT
BEGIN:STANDARD
TZOFFSETFROM:+0200
TZOFFSETTO:+0100
TZNAME:CET
DTSTART:20251026T010000
END:STANDARD
BEGIN:DAYLIGHT
TZOFFSETFROM:+0100
TZOFFSETTO:+0200
TZNAME:CEST
DTSTART:20260329T010000
END:DAYLIGHT
BEGIN:STANDARD
TZOFFSETFROM:+0200
TZOFFSETTO:+0100
TZNAME:CET
DTSTART:20261025T010000
END:STANDARD
BEGIN:DAYLIGHT
TZOFFSETFROM:+0100
TZOFFSETTO:+0200
TZNAME:CEST
DTSTART:20270328T010000
END:DAYLIGHT
BEGIN:STANDARD
TZOFFSETFROM:+0200
TZOFFSETTO:+0100
TZNAME:CET
DTSTART:20271031T010000
END:STANDARD
END:VTIMEZONE
BEGIN:VEVENT
DTSTART;TZID=Europe/Paris:20260628T180000
DTEND;TZID=Europe/Paris:20260628T190000
DTSTAMP:20260425T124857
CREATED:20260409T103415Z
LAST-MODIFIED:20260425T103423Z
UID:93547-1782669600-1782673200@www.hlc.org.uk
SUMMARY:Choir Party
DESCRIPTION:Start Time : 17:00 End Time : 20:00 Location : U5 Com
URL:https://www.hlc.org.uk/event/choir-party/
CATEGORIES:College
END:VEVENT
BEGIN:VEVENT
DTSTART;VALUE=DATE:20260629
DTEND;VALUE=DATE:20260701
DTSTAMP:20260425T124857
CREATED:20250729T122535Z
LAST-MODIFIED:20260425T102515Z
UID:57024-1782694800-1782781199@www.hlc.org.uk
SUMMARY:Highfield's Got Talent
DESCRIPTION:All Day Event Location : Assembly Hall
URL:https://www.hlc.org.uk/event/highfields-got-talent-3/
CATEGORIES:Highfield Prep
END:VEVENT
BEGIN:VEVENT
DTSTART;VALUE=DATE:20260629
DTEND;VALUE=DATE:20260701
DTSTAMP:20260425T124857
CREATED:20250729T123457Z
LAST-MODIFIED:20260313T173419Z
UID:57069-1782694800-1782781199@www.hlc.org.uk
SUMMARY:Prefect Training Day
DESCRIPTION:All Day Event
URL:https://www.hlc.org.uk/event/prefect-training-day/
CATEGORIES:College
END:VEVENT
BEGIN:VEVENT
DTSTART;VALUE=DATE:20260629
DTEND;VALUE=DATE:20260701
DTSTAMP:20260425T124857
CREATED:20260313T183429Z
LAST-MODIFIED:20260425T103423Z
UID:92067-1782694800-1782781199@www.hlc.org.uk
SUMMARY:Normandy Trip
DESCRIPTION:All Day Event Location : Normandy
URL:https://www.hlc.org.uk/event/normandy-trip/
CATEGORIES:College
END:VEVENT
BEGIN:VEVENT
DTSTART;TZID=Europe/Paris:20260629T094500
DTEND;TZID=Europe/Paris:20260629T104500
DTSTAMP:20260425T124857
CREATED:20250711T113500Z
LAST-MODIFIED:20260425T103423Z
UID:55659-1782726300-1782729900@www.hlc.org.uk
SUMMARY:Chapel
DESCRIPTION:Start Time : 08:45 End Time : 09:05
URL:https://www.hlc.org.uk/event/chapel-123/
CATEGORIES:College
END:VEVENT
BEGIN:VEVENT
DTSTART;TZID=Europe/Paris:20260629T170000
DTEND;TZID=Europe/Paris:20260629T180000
DTSTAMP:20260425T124857
CREATED:20260225T183435Z
LAST-MODIFIED:20260425T103423Z
UID:91125-1782752400-1782756000@www.hlc.org.uk
SUMMARY:College Summer Art Exhibition
DESCRIPTION:Start Time : 16:00 End Time : 18:00 Location : Art Room / Textiles Room / Maths Corridor
URL:https://www.hlc.org.uk/event/college-summer-art-exhibition/
CATEGORIES:College
END:VEVENT
BEGIN:VEVENT
DTSTART;TZID=Europe/Paris:20260629T174500
DTEND;TZID=Europe/Paris:20260629T184500
DTSTAMP:20260425T124857
CREATED:20260417T083508Z
LAST-MODIFIED:20260425T103423Z
UID:94308-1782755100-1782758700@www.hlc.org.uk
SUMMARY:Cricket Club
DESCRIPTION:Start Time : 16:45 End Time : 18:00 Location : Sports Field
URL:https://www.hlc.org.uk/event/cricket-club-11/
CATEGORIES:College
END:VEVENT
BEGIN:VEVENT
DTSTART;TZID=Europe/Paris:20260629T174500
DTEND;TZID=Europe/Paris:20260629T184500
DTSTAMP:20260425T124857
CREATED:20260417T083508Z
LAST-MODIFIED:20260417T083508Z
UID:94309-1782755100-1782758700@www.hlc.org.uk
SUMMARY:Cricket Club
DESCRIPTION:Start Time : 16:45 End Time : 18:00 Location : Sports Field
URL:https://www.hlc.org.uk/event/cricket-club-12/
CATEGORIES:College
END:VEVENT
BEGIN:VEVENT
DTSTART;VALUE=DATE:20260630
DTEND;VALUE=DATE:20260702
DTSTAMP:20260425T124857
CREATED:20260223T113422Z
LAST-MODIFIED:20260425T103423Z
UID:90975-1782781200-1782867599@www.hlc.org.uk
SUMMARY:Lower 6 Enrichment Carousel Day
DESCRIPTION:All Day Event
URL:https://www.hlc.org.uk/event/lower-6-enrichment-carousel-day-3/
CATEGORIES:College
END:VEVENT
BEGIN:VEVENT
DTSTART;VALUE=DATE:20260630
DTEND;VALUE=DATE:20260702
DTSTAMP:20260425T124857
CREATED:20260417T083508Z
LAST-MODIFIED:20260425T103423Z
UID:94310-1782781200-1782867599@www.hlc.org.uk
SUMMARY:Normandy Trip
DESCRIPTION:All Day Event Location : Normandy
URL:https://www.hlc.org.uk/event/normandy-trip-4/
CATEGORIES:College
END:VEVENT
BEGIN:VEVENT
DTSTART;VALUE=DATE:20260630
DTEND;VALUE=DATE:20260702
DTSTAMP:20260425T124857
CREATED:20260417T083508Z
LAST-MODIFIED:20260417T083508Z
UID:94311-1782781200-1782867599@www.hlc.org.uk
SUMMARY:Normandy Trip
DESCRIPTION:All Day Event Location : Normandy
URL:https://www.hlc.org.uk/event/normandy-trip-5/
CATEGORIES:College
END:VEVENT
BEGIN:VEVENT
DTSTART;TZID=Europe/Paris:20260630T174500
DTEND;TZID=Europe/Paris:20260630T184500
DTSTAMP:20260425T124857
CREATED:20260417T083508Z
LAST-MODIFIED:20260425T103423Z
UID:94312-1782841500-1782845100@www.hlc.org.uk
SUMMARY:HLC Dance Company
DESCRIPTION:Start Time : 16:45 End Time : 17:30 Location : Swinton Theatre
URL:https://www.hlc.org.uk/event/hlc-dance-company-12/
CATEGORIES:College
END:VEVENT
BEGIN:VEVENT
DTSTART;TZID=Europe/Paris:20260630T174500
DTEND;TZID=Europe/Paris:20260630T184500
DTSTAMP:20260425T124857
CREATED:20260417T083508Z
LAST-MODIFIED:20260417T083508Z
UID:94313-1782841500-1782845100@www.hlc.org.uk
SUMMARY:HLC Dance Company
DESCRIPTION:Start Time : 16:45 End Time : 17:30 Location : Swinton Theatre
URL:https://www.hlc.org.uk/event/hlc-dance-company-13/
CATEGORIES:College
END:VEVENT
BEGIN:VEVENT
DTSTART;TZID=Europe/Paris:20260630T174500
DTEND;TZID=Europe/Paris:20260630T184500
DTSTAMP:20260425T124857
CREATED:20260417T083509Z
LAST-MODIFIED:20260425T103423Z
UID:94314-1782841500-1782845100@www.hlc.org.uk
SUMMARY:Rounders Club
DESCRIPTION:Start Time : 16:45 End Time : 18:00 Location : Sports Field
URL:https://www.hlc.org.uk/event/rounders-club-23/
CATEGORIES:College
END:VEVENT
BEGIN:VEVENT
DTSTART;TZID=Europe/Paris:20260630T174500
DTEND;TZID=Europe/Paris:20260630T184500
DTSTAMP:20260425T124857
CREATED:20260417T083509Z
LAST-MODIFIED:20260417T083509Z
UID:94315-1782841500-1782845100@www.hlc.org.uk
SUMMARY:Rounders Club
DESCRIPTION:Start Time : 16:45 End Time : 18:00 Location : Sports Field
URL:https://www.hlc.org.uk/event/rounders-club-24/
CATEGORIES:College
END:VEVENT
BEGIN:VEVENT
DTSTART;TZID=Europe/Paris:20260701T091500
DTEND;TZID=Europe/Paris:20260701T101500
DTSTAMP:20260425T124857
CREATED:20260226T103438Z
LAST-MODIFIED:20260425T103423Z
UID:91161-1782897300-1782900900@www.hlc.org.uk
SUMMARY:HLC LAMDA Examinations Summer Day 2
DESCRIPTION:Start Time : 08:15 End Time : 16:45 Location : Music House
URL:https://www.hlc.org.uk/event/hlc-lamda-examinations-summer-day-2/
CATEGORIES:College
END:VEVENT
BEGIN:VEVENT
DTSTART;TZID=Europe/Paris:20260701T171500
DTEND;TZID=Europe/Paris:20260701T181500
DTSTAMP:20260425T124857
CREATED:20250729T122535Z
LAST-MODIFIED:20260425T102515Z
UID:57025-1782926100-1782929700@www.hlc.org.uk
SUMMARY:Prep 6 Leavers' Service (Parents welcome)
DESCRIPTION:Start Time : 16:15 End Time : N/A Location : Chapel
URL:https://www.hlc.org.uk/event/prep-6-leavers-service-parents-welcome/
CATEGORIES:Highfield Prep
END:VEVENT
BEGIN:VEVENT
DTSTART;TZID=Europe/Paris:20260701T174500
DTEND;TZID=Europe/Paris:20260701T184500
DTSTAMP:20260425T124857
CREATED:20260417T083509Z
LAST-MODIFIED:20260425T103423Z
UID:94316-1782927900-1782931500@www.hlc.org.uk
SUMMARY:Athletics Club
DESCRIPTION:Start Time : 16:45 End Time : 18:00 Location : Sports Field
URL:https://www.hlc.org.uk/event/athletics-club-12/
CATEGORIES:College
END:VEVENT
BEGIN:VEVENT
DTSTART;TZID=Europe/Paris:20260701T174500
DTEND;TZID=Europe/Paris:20260701T184500
DTSTAMP:20260425T124857
CREATED:20260417T083509Z
LAST-MODIFIED:20260417T083509Z
UID:94317-1782927900-1782931500@www.hlc.org.uk
SUMMARY:Athletics Club
DESCRIPTION:Start Time : 16:45 End Time : 18:00 Location : Sports Field
URL:https://www.hlc.org.uk/event/athletics-club-13/
CATEGORIES:College
END:VEVENT
BEGIN:VEVENT
DTSTART;TZID=Europe/Paris:20260701T181500
DTEND;TZID=Europe/Paris:20260701T191500
DTSTAMP:20260425T124857
CREATED:20250903T112533Z
LAST-MODIFIED:20250903T123445Z
UID:67157-1782929700-1782933300@www.hlc.org.uk
SUMMARY:Harrogate district dance company
DESCRIPTION:Start Time : 17:15 End Time : 21:00 Location : Dance studios 1 & 2
URL:https://www.hlc.org.uk/event/harrogate-district-dance-company-36/
CATEGORIES:College
END:VEVENT
BEGIN:VEVENT
DTSTART;TZID=Europe/Paris:20260701T200000
DTEND;TZID=Europe/Paris:20260701T210000
DTSTAMP:20260425T124857
CREATED:20250729T123457Z
LAST-MODIFIED:20260425T103408Z
UID:57070-1782936000-1782939600@www.hlc.org.uk
SUMMARY:Sports Presentation Evening
DESCRIPTION:Start Time : 19:00 End Time : N/A Location : Sports Hall
URL:https://www.hlc.org.uk/event/sports-presentation-evening-3/
CATEGORIES:College
END:VEVENT
BEGIN:VEVENT
DTSTART;VALUE=DATE:20260702
DTEND;VALUE=DATE:20260704
DTSTAMP:20260425T124857
CREATED:20250729T123457Z
LAST-MODIFIED:20260425T103423Z
UID:57071-1782954000-1783040399@www.hlc.org.uk
SUMMARY:Merit Assembly
DESCRIPTION:All Day Event Location : Assembly Hall
URL:https://www.hlc.org.uk/event/merit-assembly-8/
CATEGORIES:College
END:VEVENT
BEGIN:VEVENT
DTSTART;TZID=Europe/Paris:20260702T094500
DTEND;TZID=Europe/Paris:20260702T104500
DTSTAMP:20260425T124857
CREATED:20250711T113500Z
LAST-MODIFIED:20260425T103423Z
UID:55660-1782985500-1782989100@www.hlc.org.uk
SUMMARY:Chapel
DESCRIPTION:Start Time : 08:45 End Time : 09:05
URL:https://www.hlc.org.uk/event/chapel-124/
CATEGORIES:College
END:VEVENT
BEGIN:VEVENT
DTSTART;TZID=Europe/Paris:20260702T143000
DTEND;TZID=Europe/Paris:20260702T153000
DTSTAMP:20260425T124857
CREATED:20260204T123423Z
LAST-MODIFIED:20260425T103423Z
UID:89876-1783002600-1783006200@www.hlc.org.uk
SUMMARY:Food Committee Meeting
DESCRIPTION:Start Time : 13:30 End Time : N/A Location : Conference Room
URL:https://www.hlc.org.uk/event/food-committee-meeting-3/
CATEGORIES:College
END:VEVENT
BEGIN:VEVENT
DTSTART;TZID=Europe/Paris:20260702T174500
DTEND;TZID=Europe/Paris:20260702T184500
DTSTAMP:20260425T124857
CREATED:20260417T083509Z
LAST-MODIFIED:20260425T103411Z
UID:94318-1783014300-1783017900@www.hlc.org.uk
SUMMARY:Rounders Club
DESCRIPTION:Start Time : 16:45 End Time : 18:00 Location : Sports Field
URL:https://www.hlc.org.uk/event/rounders-club-25/
CATEGORIES:College
END:VEVENT
BEGIN:VEVENT
DTSTART;TZID=Europe/Paris:20260702T174500
DTEND;TZID=Europe/Paris:20260702T184500
DTSTAMP:20260425T124857
CREATED:20260417T083510Z
LAST-MODIFIED:20260417T083510Z
UID:94319-1783014300-1783017900@www.hlc.org.uk
SUMMARY:Rounders Club
DESCRIPTION:Start Time : 16:45 End Time : 18:00 Location : Sports Field
URL:https://www.hlc.org.uk/event/rounders-club-26/
CATEGORIES:College
END:VEVENT
BEGIN:VEVENT
DTSTART;VALUE=DATE:20260703
DTEND;VALUE=DATE:20260705
DTSTAMP:20260425T124857
CREATED:20250703T012508Z
LAST-MODIFIED:20251208T122514Z
UID:54514-1783040400-1783126799@www.hlc.org.uk
SUMMARY:Term Ends
DESCRIPTION:All Day Event
URL:https://www.hlc.org.uk/event/term-ends/
CATEGORIES:Highfield Prep
END:VEVENT
BEGIN:VEVENT
DTSTART;VALUE=DATE:20260703
DTEND;VALUE=DATE:20260705
DTSTAMP:20260425T124857
CREATED:20250729T123458Z
LAST-MODIFIED:20260425T103415Z
UID:57072-1783040400-1783126799@www.hlc.org.uk
SUMMARY:Lower School\, L5\, L6 Full Report Principal Deadline
DESCRIPTION:All Day Event
URL:https://www.hlc.org.uk/event/lower-school-l5-l6-full-report-principal-deadline/
CATEGORIES:College
END:VEVENT
BEGIN:VEVENT
DTSTART;VALUE=DATE:20260703
DTEND;VALUE=DATE:20260705
DTSTAMP:20260425T124857
CREATED:20251021T102514Z
LAST-MODIFIED:20251208T122514Z
UID:74850-1783040400-1783126799@www.hlc.org.uk
SUMMARY:Highfield Speech Day + Prizegiving
DESCRIPTION:All Day Event Location : Sports Hall
URL:https://www.hlc.org.uk/event/highfield-speech-day-prizegiving/
CATEGORIES:Highfield Prep
END:VEVENT
BEGIN:VEVENT
DTSTART;TZID=Europe/Paris:20260703T083000
DTEND;TZID=Europe/Paris:20260703T093000
DTSTAMP:20260425T124857
CREATED:20250711T113500Z
LAST-MODIFIED:20250729T113453Z
UID:55661-1783067400-1783071000@www.hlc.org.uk
SUMMARY:Final Assembly
DESCRIPTION:Start Time : 08:30 End Time : 10:15 Location : Assembly Hall
URL:https://www.hlc.org.uk/event/final-assembly-3/
CATEGORIES:College
END:VEVENT
END:VCALENDAR