BEGIN:VCALENDAR
VERSION:2.0
PRODID:-//Duchy College - ECPv6.15.20//NONSGML v1.0//EN
CALSCALE:GREGORIAN
METHOD:PUBLISH
X-WR-CALNAME:Duchy College
X-ORIGINAL-URL:https://www.hlc.org.uk
X-WR-CALDESC:Events for Duchy College
REFRESH-INTERVAL;VALUE=DURATION:PT1H
X-Robots-Tag:noindex
X-PUBLISHED-TTL:PT1H
BEGIN:VTIMEZONE
TZID:Europe/Paris
BEGIN:DAYLIGHT
TZOFFSETFROM:+0100
TZOFFSETTO:+0200
TZNAME:CEST
DTSTART:20250330T010000
END:DAYLIGHT
BEGIN:STANDARD
TZOFFSETFROM:+0200
TZOFFSETTO:+0100
TZNAME:CET
DTSTART:20251026T010000
END:STANDARD
BEGIN:DAYLIGHT
TZOFFSETFROM:+0100
TZOFFSETTO:+0200
TZNAME:CEST
DTSTART:20260329T010000
END:DAYLIGHT
BEGIN:STANDARD
TZOFFSETFROM:+0200
TZOFFSETTO:+0100
TZNAME:CET
DTSTART:20261025T010000
END:STANDARD
BEGIN:DAYLIGHT
TZOFFSETFROM:+0100
TZOFFSETTO:+0200
TZNAME:CEST
DTSTART:20270328T010000
END:DAYLIGHT
BEGIN:STANDARD
TZOFFSETFROM:+0200
TZOFFSETTO:+0100
TZNAME:CET
DTSTART:20271031T010000
END:STANDARD
END:VTIMEZONE
BEGIN:VEVENT
DTSTART;TZID=Europe/Paris:20260605T170000
DTEND;TZID=Europe/Paris:20260605T180000
DTSTAMP:20260425T031144
CREATED:20260416T162513Z
LAST-MODIFIED:20260425T002522Z
UID:94140-1780678800-1780682400@www.hlc.org.uk
SUMMARY:Tennis (Key Stage 2)
DESCRIPTION:Start Time : 16:00 End Time : 17:00 Location : Tennis Courts
URL:https://www.hlc.org.uk/event/tennis-key-stage-2-3/
CATEGORIES:Highfield Prep
END:VEVENT
BEGIN:VEVENT
DTSTART;VALUE=DATE:20260606
DTEND;VALUE=DATE:20260608
DTSTAMP:20260425T031144
CREATED:20250729T123453Z
LAST-MODIFIED:20260425T003454Z
UID:57050-1780707600-1780793999@www.hlc.org.uk
SUMMARY:DofE Weekend
DESCRIPTION:All Day Event
URL:https://www.hlc.org.uk/event/dofe-weekend-5/
CATEGORIES:College
END:VEVENT
BEGIN:VEVENT
DTSTART;VALUE=DATE:20260606
DTEND;VALUE=DATE:20260608
DTSTAMP:20260425T031144
CREATED:20251021T103429Z
LAST-MODIFIED:20260425T003455Z
UID:74867-1780707600-1780793999@www.hlc.org.uk
SUMMARY:Saltaire Museum
DESCRIPTION:All Day Event
URL:https://www.hlc.org.uk/event/saltaire-museum/
CATEGORIES:College
END:VEVENT
BEGIN:VEVENT
DTSTART;TZID=Europe/Paris:20260606T103000
DTEND;TZID=Europe/Paris:20260606T113000
DTSTAMP:20260425T031144
CREATED:20250807T112538Z
LAST-MODIFIED:20250904T083443Z
UID:57650-1780741800-1780745400@www.hlc.org.uk
SUMMARY:Harrogate SDA Church Worship
DESCRIPTION:Start Time : 09:30 End Time : 13:30 Location : Highfield Hall
URL:https://www.hlc.org.uk/event/harrogate-sda-church-worship-43/
CATEGORIES:College
END:VEVENT
BEGIN:VEVENT
DTSTART;VALUE=DATE:20260607
DTEND;VALUE=DATE:20260609
DTSTAMP:20260425T031144
CREATED:20250729T123453Z
LAST-MODIFIED:20260425T003455Z
UID:57051-1780794000-1780880399@www.hlc.org.uk
SUMMARY:DofE Weekend
DESCRIPTION:All Day Event
URL:https://www.hlc.org.uk/event/dofe-weekend-6/
CATEGORIES:College
END:VEVENT
BEGIN:VEVENT
DTSTART;VALUE=DATE:20260607
DTEND;VALUE=DATE:20260609
DTSTAMP:20260425T031144
CREATED:20251021T103429Z
LAST-MODIFIED:20260425T003455Z
UID:74868-1780794000-1780880399@www.hlc.org.uk
SUMMARY:House Activities
DESCRIPTION:All Day Event
URL:https://www.hlc.org.uk/event/house-activities-23/
CATEGORIES:College
END:VEVENT
BEGIN:VEVENT
DTSTART;VALUE=DATE:20260608
DTEND;VALUE=DATE:20260610
DTSTAMP:20260425T031144
CREATED:20250729T123453Z
LAST-MODIFIED:20260425T003455Z
UID:57052-1780880400-1780966799@www.hlc.org.uk
SUMMARY:DofE Weekend
DESCRIPTION:All Day Event
URL:https://www.hlc.org.uk/event/dofe-weekend-7/
CATEGORIES:College
END:VEVENT
BEGIN:VEVENT
DTSTART;VALUE=DATE:20260608
DTEND;VALUE=DATE:20260610
DTSTAMP:20260425T031144
CREATED:20260304T112511Z
LAST-MODIFIED:20260425T002522Z
UID:91523-1780880400-1780966799@www.hlc.org.uk
SUMMARY:Highfield Healthy Bodies\, Healthy Minds Week
DESCRIPTION:All Day Event Location : Highfield
URL:https://www.hlc.org.uk/event/highfield-healthy-bodies-healthy-minds-week/
CATEGORIES:Highfield Prep
END:VEVENT
BEGIN:VEVENT
DTSTART;TZID=Europe/Paris:20260608T094500
DTEND;TZID=Europe/Paris:20260608T104500
DTSTAMP:20260425T031144
CREATED:20250711T113458Z
LAST-MODIFIED:20260425T003455Z
UID:55652-1780911900-1780915500@www.hlc.org.uk
SUMMARY:Chapel
DESCRIPTION:Start Time : 08:45 End Time : 09:05
URL:https://www.hlc.org.uk/event/chapel-118/
CATEGORIES:College
END:VEVENT
BEGIN:VEVENT
DTSTART;TZID=Europe/Paris:20260608T094500
DTEND;TZID=Europe/Paris:20260608T104500
DTSTAMP:20260425T031144
CREATED:20260422T153419Z
LAST-MODIFIED:20260425T003455Z
UID:94801-1780911900-1780915500@www.hlc.org.uk
SUMMARY:Combined Science Trilogy
DESCRIPTION:Start Time : 08:45 End Time : 10:00
URL:https://www.hlc.org.uk/event/combined-science-trilogy-4/
CATEGORIES:College
END:VEVENT
BEGIN:VEVENT
DTSTART;TZID=Europe/Paris:20260608T094500
DTEND;TZID=Europe/Paris:20260608T104500
DTSTAMP:20260425T031144
CREATED:20260422T153419Z
LAST-MODIFIED:20260425T003455Z
UID:94802-1780911900-1780915500@www.hlc.org.uk
SUMMARY:GCE French
DESCRIPTION:Start Time : 08:45 End Time : 11:15
URL:https://www.hlc.org.uk/event/gce-french/
CATEGORIES:College
END:VEVENT
BEGIN:VEVENT
DTSTART;TZID=Europe/Paris:20260608T094500
DTEND;TZID=Europe/Paris:20260608T104500
DTSTAMP:20260425T031144
CREATED:20260422T153419Z
LAST-MODIFIED:20260425T003455Z
UID:94803-1780911900-1780915500@www.hlc.org.uk
SUMMARY:GCE Physics
DESCRIPTION:Start Time : 08:45 End Time : 10:45
URL:https://www.hlc.org.uk/event/gce-physics-3/
CATEGORIES:College
END:VEVENT
BEGIN:VEVENT
DTSTART;TZID=Europe/Paris:20260608T094500
DTEND;TZID=Europe/Paris:20260608T104500
DTSTAMP:20260425T031144
CREATED:20260422T153420Z
LAST-MODIFIED:20260425T003455Z
UID:94804-1780911900-1780915500@www.hlc.org.uk
SUMMARY:IGCSE Biology
DESCRIPTION:Start Time : 08:45 End Time : 10:00
URL:https://www.hlc.org.uk/event/igcse-biology-2/
CATEGORIES:College
END:VEVENT
BEGIN:VEVENT
DTSTART;TZID=Europe/Paris:20260608T143000
DTEND;TZID=Europe/Paris:20260608T153000
DTSTAMP:20260425T031144
CREATED:20260422T153420Z
LAST-MODIFIED:20260425T003455Z
UID:94805-1780929000-1780932600@www.hlc.org.uk
SUMMARY:Certificate in Further Maths
DESCRIPTION:Start Time : 13:30 End Time : 15:15
URL:https://www.hlc.org.uk/event/certificate-in-further-maths/
CATEGORIES:College
END:VEVENT
BEGIN:VEVENT
DTSTART;TZID=Europe/Paris:20260608T170000
DTEND;TZID=Europe/Paris:20260608T180000
DTSTAMP:20260425T031144
CREATED:20260417T072533Z
LAST-MODIFIED:20260425T002522Z
UID:94206-1780938000-1780941600@www.hlc.org.uk
SUMMARY:Highfield Swim Squad
DESCRIPTION:Start Time : 16:00 End Time : 17:00 Location : Swimming Pool
URL:https://www.hlc.org.uk/event/highfield-swim-squad-6/
CATEGORIES:Highfield Prep
END:VEVENT
BEGIN:VEVENT
DTSTART;TZID=Europe/Paris:20260608T170000
DTEND;TZID=Europe/Paris:20260608T180000
DTSTAMP:20260425T031144
CREATED:20260417T072534Z
LAST-MODIFIED:20260425T002522Z
UID:94207-1780938000-1780941600@www.hlc.org.uk
SUMMARY:Highfield Taekwondo
DESCRIPTION:Start Time : 16:00 End Time : 17:00 Location : Studio 2
URL:https://www.hlc.org.uk/event/highfield-taekwondo-6/
CATEGORIES:Highfield Prep
END:VEVENT
BEGIN:VEVENT
DTSTART;TZID=Europe/Paris:20260608T170000
DTEND;TZID=Europe/Paris:20260608T180000
DTSTAMP:20260425T031144
CREATED:20260417T072534Z
LAST-MODIFIED:20260425T002523Z
UID:94208-1780938000-1780941600@www.hlc.org.uk
SUMMARY:Prep 1 and 2 Athletics
DESCRIPTION:Start Time : 16:00 End Time : 17:00 Location : Sports Field
URL:https://www.hlc.org.uk/event/prep-1-and-2-athletics-6/
CATEGORIES:Highfield Prep
END:VEVENT
BEGIN:VEVENT
DTSTART;TZID=Europe/Paris:20260608T170000
DTEND;TZID=Europe/Paris:20260608T180000
DTSTAMP:20260425T031144
CREATED:20260417T072534Z
LAST-MODIFIED:20260425T002523Z
UID:94209-1780938000-1780941600@www.hlc.org.uk
SUMMARY:Prep 3 and 4 Cricket
DESCRIPTION:Start Time : 16:00 End Time : 17:00 Location : Sports Field
URL:https://www.hlc.org.uk/event/prep-3-and-4-cricket-6/
CATEGORIES:Highfield Prep
END:VEVENT
BEGIN:VEVENT
DTSTART;TZID=Europe/Paris:20260608T170000
DTEND;TZID=Europe/Paris:20260608T180000
DTSTAMP:20260425T031144
CREATED:20260417T072534Z
LAST-MODIFIED:20260425T002523Z
UID:94210-1780938000-1780941600@www.hlc.org.uk
SUMMARY:RAD Pre-Primary Ballet and Tap: Reception
DESCRIPTION:Start Time : 16:00 End Time : 17:00 Location : Studio
URL:https://www.hlc.org.uk/event/rad-pre-primary-ballet-and-tap-reception-6/
CATEGORIES:Highfield Prep
END:VEVENT
BEGIN:VEVENT
DTSTART;TZID=Europe/Paris:20260608T174500
DTEND;TZID=Europe/Paris:20260608T184500
DTSTAMP:20260425T031144
CREATED:20260410T103433Z
LAST-MODIFIED:20260425T003455Z
UID:93623-1780940700-1780944300@www.hlc.org.uk
SUMMARY:Junior House Tennis
DESCRIPTION:Start Time : 16:45 End Time : 18:00 Location : HLC
URL:https://www.hlc.org.uk/event/junior-house-tennis/
CATEGORIES:College
END:VEVENT
BEGIN:VEVENT
DTSTART;TZID=Europe/Paris:20260608T174500
DTEND;TZID=Europe/Paris:20260608T184500
DTSTAMP:20260425T031144
CREATED:20260417T073414Z
LAST-MODIFIED:20260425T003455Z
UID:94240-1780940700-1780944300@www.hlc.org.uk
SUMMARY:Cricket Club
DESCRIPTION:Start Time : 16:45 End Time : 18:00 Location : Sports Field
URL:https://www.hlc.org.uk/event/cricket-club-6/
CATEGORIES:College
END:VEVENT
BEGIN:VEVENT
DTSTART;TZID=Europe/Paris:20260609T093000
DTEND;TZID=Europe/Paris:20260609T103000
DTSTAMP:20260425T031144
CREATED:20250729T123453Z
LAST-MODIFIED:20260425T003455Z
UID:57053-1780997400-1781001000@www.hlc.org.uk
SUMMARY:CSI Day
DESCRIPTION:Start Time : 08:30 End Time : 16:30 Location : Science Block
URL:https://www.hlc.org.uk/event/csi-day/
CATEGORIES:College
END:VEVENT
BEGIN:VEVENT
DTSTART;TZID=Europe/Paris:20260609T094500
DTEND;TZID=Europe/Paris:20260609T104500
DTSTAMP:20260425T031144
CREATED:20260422T153420Z
LAST-MODIFIED:20260425T003455Z
UID:94806-1780998300-1781001900@www.hlc.org.uk
SUMMARY:GCE Chemistry
DESCRIPTION:Start Time : 08:45 End Time : 10:45
URL:https://www.hlc.org.uk/event/gce-chemistry-2/
CATEGORIES:College
END:VEVENT
BEGIN:VEVENT
DTSTART;TZID=Europe/Paris:20260609T094500
DTEND;TZID=Europe/Paris:20260609T104500
DTSTAMP:20260425T031144
CREATED:20260422T153420Z
LAST-MODIFIED:20260425T003455Z
UID:94807-1780998300-1781001900@www.hlc.org.uk
SUMMARY:GCE Religious Studies
DESCRIPTION:Start Time : 08:45 End Time : 10:45
URL:https://www.hlc.org.uk/event/gce-religious-studies-2/
CATEGORIES:College
END:VEVENT
BEGIN:VEVENT
DTSTART;TZID=Europe/Paris:20260609T143000
DTEND;TZID=Europe/Paris:20260609T153000
DTSTAMP:20260425T031144
CREATED:20260422T153421Z
LAST-MODIFIED:20260425T003455Z
UID:94808-1781015400-1781019000@www.hlc.org.uk
SUMMARY:GCE Business Studies
DESCRIPTION:Start Time : 13:30 End Time : 15:30
URL:https://www.hlc.org.uk/event/gce-business-studies-3/
CATEGORIES:College
END:VEVENT
BEGIN:VEVENT
DTSTART;TZID=Europe/Paris:20260609T150000
DTEND;TZID=Europe/Paris:20260609T160000
DTSTAMP:20260425T031144
CREATED:20260422T102513Z
LAST-MODIFIED:20260425T002523Z
UID:94738-1781017200-1781020800@www.hlc.org.uk
SUMMARY:U9 Cricket vs Gateways
DESCRIPTION:Start Time : 14:00 End Time : 16:00 Location : TBC
URL:https://www.hlc.org.uk/event/u9-cricket-vs-gateways/
CATEGORIES:Highfield Prep
END:VEVENT
BEGIN:VEVENT
DTSTART;TZID=Europe/Paris:20260609T170000
DTEND;TZID=Europe/Paris:20260609T180000
DTSTAMP:20260425T031144
CREATED:20260422T102513Z
LAST-MODIFIED:20260425T002523Z
UID:94739-1781024400-1781028000@www.hlc.org.uk
SUMMARY:Highfield Cricket (Prep 5 and 6)
DESCRIPTION:Start Time : 16:00 End Time : 17:00 Location : Sports Field
URL:https://www.hlc.org.uk/event/highfield-cricket-prep-5-and-6-8/
CATEGORIES:Highfield Prep
END:VEVENT
BEGIN:VEVENT
DTSTART;TZID=Europe/Paris:20260609T170000
DTEND;TZID=Europe/Paris:20260609T180000
DTSTAMP:20260425T031144
CREATED:20260422T102513Z
LAST-MODIFIED:20260425T002523Z
UID:94740-1781024400-1781028000@www.hlc.org.uk
SUMMARY:Highfield Dance Ed
DESCRIPTION:Start Time : 16:00 End Time : 17:30 Location : Highfield Hall
URL:https://www.hlc.org.uk/event/highfield-dance-ed-8/
CATEGORIES:Highfield Prep
END:VEVENT
BEGIN:VEVENT
DTSTART;TZID=Europe/Paris:20260609T170000
DTEND;TZID=Europe/Paris:20260609T180000
DTSTAMP:20260425T031144
CREATED:20260422T112524Z
LAST-MODIFIED:20260425T002523Z
UID:94762-1781024400-1781028000@www.hlc.org.uk
SUMMARY:Highfield Cricket (Prep 1 and 2)
DESCRIPTION:Start Time : 16:00 End Time : 17:00 Location : Sports Hall
URL:https://www.hlc.org.uk/event/highfield-cricket-prep-1-and-2-8/
CATEGORIES:Highfield Prep
END:VEVENT
BEGIN:VEVENT
DTSTART;TZID=Europe/Paris:20260609T174500
DTEND;TZID=Europe/Paris:20260609T184500
DTSTAMP:20260425T031144
CREATED:20260410T103433Z
LAST-MODIFIED:20260425T003456Z
UID:93624-1781027100-1781030700@www.hlc.org.uk
SUMMARY:Junior House Rounders
DESCRIPTION:Start Time : 16:45 End Time : 18:00 Location : HLC
URL:https://www.hlc.org.uk/event/junior-house-rounders-2/
CATEGORIES:College
END:VEVENT
END:VCALENDAR