BEGIN:VCALENDAR
VERSION:2.0
PRODID:-//Duchy College - ECPv6.15.20//NONSGML v1.0//EN
CALSCALE:GREGORIAN
METHOD:PUBLISH
X-WR-CALNAME:Duchy College
X-ORIGINAL-URL:https://www.hlc.org.uk
X-WR-CALDESC:Events for Duchy College
REFRESH-INTERVAL;VALUE=DURATION:PT1H
X-Robots-Tag:noindex
X-PUBLISHED-TTL:PT1H
BEGIN:VTIMEZONE
TZID:Europe/Paris
BEGIN:DAYLIGHT
TZOFFSETFROM:+0100
TZOFFSETTO:+0200
TZNAME:CEST
DTSTART:20250330T010000
END:DAYLIGHT
BEGIN:STANDARD
TZOFFSETFROM:+0200
TZOFFSETTO:+0100
TZNAME:CET
DTSTART:20251026T010000
END:STANDARD
BEGIN:DAYLIGHT
TZOFFSETFROM:+0100
TZOFFSETTO:+0200
TZNAME:CEST
DTSTART:20260329T010000
END:DAYLIGHT
BEGIN:STANDARD
TZOFFSETFROM:+0200
TZOFFSETTO:+0100
TZNAME:CET
DTSTART:20261025T010000
END:STANDARD
BEGIN:DAYLIGHT
TZOFFSETFROM:+0100
TZOFFSETTO:+0200
TZNAME:CEST
DTSTART:20270328T010000
END:DAYLIGHT
BEGIN:STANDARD
TZOFFSETFROM:+0200
TZOFFSETTO:+0100
TZNAME:CET
DTSTART:20271031T010000
END:STANDARD
END:VTIMEZONE
BEGIN:VEVENT
DTSTART;TZID=Europe/Paris:20260622T170000
DTEND;TZID=Europe/Paris:20260622T180000
DTSTAMP:20260424T155400
CREATED:20260417T072538Z
LAST-MODIFIED:20260424T132519Z
UID:94229-1782147600-1782151200@www.hlc.org.uk
SUMMARY:Highfield Taekwondo
DESCRIPTION:Start Time : 16:00 End Time : 17:00 Location : Studio 2
URL:https://www.hlc.org.uk/event/highfield-taekwondo-8/
CATEGORIES:Highfield Prep
END:VEVENT
BEGIN:VEVENT
DTSTART;TZID=Europe/Paris:20260622T170000
DTEND;TZID=Europe/Paris:20260622T180000
DTSTAMP:20260424T155400
CREATED:20260417T072538Z
LAST-MODIFIED:20260424T132519Z
UID:94230-1782147600-1782151200@www.hlc.org.uk
SUMMARY:Prep 1 and 2 Athletics
DESCRIPTION:Start Time : 16:00 End Time : 17:00 Location : Sports Field
URL:https://www.hlc.org.uk/event/prep-1-and-2-athletics-8/
CATEGORIES:Highfield Prep
END:VEVENT
BEGIN:VEVENT
DTSTART;TZID=Europe/Paris:20260622T170000
DTEND;TZID=Europe/Paris:20260622T180000
DTSTAMP:20260424T155400
CREATED:20260417T072538Z
LAST-MODIFIED:20260424T132519Z
UID:94231-1782147600-1782151200@www.hlc.org.uk
SUMMARY:Prep 3 and 4 Cricket
DESCRIPTION:Start Time : 16:00 End Time : 17:00 Location : Sports Field
URL:https://www.hlc.org.uk/event/prep-3-and-4-cricket-8/
CATEGORIES:Highfield Prep
END:VEVENT
BEGIN:VEVENT
DTSTART;TZID=Europe/Paris:20260622T170000
DTEND;TZID=Europe/Paris:20260622T180000
DTSTAMP:20260424T155400
CREATED:20260417T072539Z
LAST-MODIFIED:20260424T132519Z
UID:94232-1782147600-1782151200@www.hlc.org.uk
SUMMARY:RAD Pre-Primary Ballet and Tap: Reception
DESCRIPTION:Start Time : 16:00 End Time : 17:00 Location : Studio
URL:https://www.hlc.org.uk/event/rad-pre-primary-ballet-and-tap-reception-8/
CATEGORIES:Highfield Prep
END:VEVENT
BEGIN:VEVENT
DTSTART;VALUE=DATE:20260623
DTEND;VALUE=DATE:20260625
DTSTAMP:20260424T155400
CREATED:20250729T122534Z
LAST-MODIFIED:20260424T132519Z
UID:57018-1782176400-1782262799@www.hlc.org.uk
SUMMARY:Highfield Sports Day
DESCRIPTION:All Day Event Location : Field
URL:https://www.hlc.org.uk/event/highfield-sports-day-3/
CATEGORIES:Highfield Prep
END:VEVENT
BEGIN:VEVENT
DTSTART;TZID=Europe/Paris:20260623T170000
DTEND;TZID=Europe/Paris:20260623T180000
DTSTAMP:20260424T155400
CREATED:20260417T072539Z
LAST-MODIFIED:20260424T132519Z
UID:94233-1782234000-1782237600@www.hlc.org.uk
SUMMARY:Highfield Cricket (Prep 1 and 2)
DESCRIPTION:Start Time : 16:00 End Time : 17:00 Location : Sports Hall
URL:https://www.hlc.org.uk/event/highfield-cricket-prep-1-and-2-7/
CATEGORIES:Highfield Prep
END:VEVENT
BEGIN:VEVENT
DTSTART;TZID=Europe/Paris:20260623T170000
DTEND;TZID=Europe/Paris:20260623T180000
DTSTAMP:20260424T155400
CREATED:20260417T072539Z
LAST-MODIFIED:20260424T132519Z
UID:94234-1782234000-1782237600@www.hlc.org.uk
SUMMARY:Highfield Cricket (Prep 5 and 6)
DESCRIPTION:Start Time : 16:00 End Time : 17:00 Location : Sports Field
URL:https://www.hlc.org.uk/event/highfield-cricket-prep-5-and-6-7/
CATEGORIES:Highfield Prep
END:VEVENT
BEGIN:VEVENT
DTSTART;TZID=Europe/Paris:20260623T170000
DTEND;TZID=Europe/Paris:20260623T180000
DTSTAMP:20260424T155400
CREATED:20260417T072539Z
LAST-MODIFIED:20260424T132520Z
UID:94235-1782234000-1782237600@www.hlc.org.uk
SUMMARY:Highfield Dance Ed
DESCRIPTION:Start Time : 16:00 End Time : 17:30 Location : Highfield Hall
URL:https://www.hlc.org.uk/event/highfield-dance-ed-7/
CATEGORIES:Highfield Prep
END:VEVENT
BEGIN:VEVENT
DTSTART;TZID=Europe/Paris:20260624T093000
DTEND;TZID=Europe/Paris:20260624T103000
DTSTAMP:20260424T155400
CREATED:20250729T122535Z
LAST-MODIFIED:20260324T142509Z
UID:57020-1782293400-1782297000@www.hlc.org.uk
SUMMARY:Highfield Transition Morning (Transition- Prep 5)
DESCRIPTION:Start Time : 08:30 End Time : 13:00
URL:https://www.hlc.org.uk/event/highfield-transition-morning-transition-prep-5/
CATEGORIES:Highfield Prep
END:VEVENT
BEGIN:VEVENT
DTSTART;TZID=Europe/Paris:20260624T093000
DTEND;TZID=Europe/Paris:20260624T103000
DTSTAMP:20260424T155400
CREATED:20260324T152523Z
LAST-MODIFIED:20260424T132520Z
UID:92660-1782293400-1782297000@www.hlc.org.uk
SUMMARY:Prep School Transition Morning (Transition- Prep 5)
DESCRIPTION:Start Time : 08:30 End Time : 13:00
URL:https://www.hlc.org.uk/event/prep-school-transition-morning-transition-prep-5/
CATEGORIES:Highfield Prep
END:VEVENT
BEGIN:VEVENT
DTSTART;TZID=Europe/Paris:20260624T130000
DTEND;TZID=Europe/Paris:20260624T140000
DTSTAMP:20260424T155400
CREATED:20250729T112531Z
LAST-MODIFIED:20251128T102517Z
UID:56980-1782306000-1782309600@www.hlc.org.uk
SUMMARY:Come & Sing
DESCRIPTION:Start Time : 12:00 End Time : 12:45 Location : Highfield Hall
URL:https://www.hlc.org.uk/event/come-sing-44/
CATEGORIES:Highfield Prep
END:VEVENT
BEGIN:VEVENT
DTSTART;TZID=Europe/Paris:20260624T130000
DTEND;TZID=Europe/Paris:20260624T140000
DTSTAMP:20260424T155400
CREATED:20251128T112520Z
LAST-MODIFIED:20260424T132520Z
UID:80691-1782306000-1782309600@www.hlc.org.uk
SUMMARY:Final Come & Sing
DESCRIPTION:Start Time : 12:00 End Time : 12:45 Location : Highfield Hall
URL:https://www.hlc.org.uk/event/final-come-sing-2/
CATEGORIES:Highfield Prep
END:VEVENT
BEGIN:VEVENT
DTSTART;TZID=Europe/Paris:20260624T143000
DTEND;TZID=Europe/Paris:20260624T153000
DTSTAMP:20260424T155400
CREATED:20260324T122510Z
LAST-MODIFIED:20260424T132520Z
UID:92651-1782311400-1782315000@www.hlc.org.uk
SUMMARY:Dancing for Wellbeing
DESCRIPTION:Start Time : 13:30 End Time : 15:30 Location : Swinton Theatre Notes : Michele Finnegan
URL:https://www.hlc.org.uk/event/dancing-for-wellbeing/
CATEGORIES:Highfield Prep
END:VEVENT
BEGIN:VEVENT
DTSTART;TZID=Europe/Paris:20260624T170000
DTEND;TZID=Europe/Paris:20260624T180000
DTSTAMP:20260424T155400
CREATED:20260417T072540Z
LAST-MODIFIED:20260424T132520Z
UID:94236-1782320400-1782324000@www.hlc.org.uk
SUMMARY:Athletics (Prep 3 and 4)
DESCRIPTION:Start Time : 16:00 End Time : 17:00 Location : Sports Field
URL:https://www.hlc.org.uk/event/athletics-prep-3-and-4-9/
CATEGORIES:Highfield Prep
END:VEVENT
BEGIN:VEVENT
DTSTART;TZID=Europe/Paris:20260625T170000
DTEND;TZID=Europe/Paris:20260625T180000
DTSTAMP:20260424T155400
CREATED:20260417T072540Z
LAST-MODIFIED:20260424T132520Z
UID:94237-1782406800-1782410400@www.hlc.org.uk
SUMMARY:Athletics (Prep 5 and 6)
DESCRIPTION:Start Time : 16:00 End Time : 17:00 Location : Sports Field
URL:https://www.hlc.org.uk/event/athletics-prep-5-and-6-9/
CATEGORIES:Highfield Prep
END:VEVENT
BEGIN:VEVENT
DTSTART;TZID=Europe/Paris:20260625T170000
DTEND;TZID=Europe/Paris:20260625T180000
DTSTAMP:20260424T155400
CREATED:20260417T072540Z
LAST-MODIFIED:20260424T132520Z
UID:94238-1782406800-1782410400@www.hlc.org.uk
SUMMARY:Tennis (Prep 1 and 2)
DESCRIPTION:Start Time : 16:00 End Time : 17:00 Location : Tennis Courts
URL:https://www.hlc.org.uk/event/tennis-prep-1-and-2-9/
CATEGORIES:Highfield Prep
END:VEVENT
BEGIN:VEVENT
DTSTART;TZID=Europe/Paris:20260625T180000
DTEND;TZID=Europe/Paris:20260625T190000
DTSTAMP:20260424T155400
CREATED:20260420T102525Z
LAST-MODIFIED:20260424T132520Z
UID:94507-1782410400-1782414000@www.hlc.org.uk
SUMMARY:Prep 5 Summer Showcase - featuring 'Creative Cat'
DESCRIPTION:Start Time : 17:00 End Time : 18:00 Location : Assembly Hall
URL:https://www.hlc.org.uk/event/prep-5-summer-showcase-featuring-creative-cat/
CATEGORIES:Highfield Prep
END:VEVENT
BEGIN:VEVENT
DTSTART;VALUE=DATE:20260626
DTEND;VALUE=DATE:20260628
DTSTAMP:20260424T155400
CREATED:20250729T122535Z
LAST-MODIFIED:20260424T132520Z
UID:57023-1782435600-1782521999@www.hlc.org.uk
SUMMARY:Reserve Highfield Sports Day
DESCRIPTION:All Day Event Location : Field
URL:https://www.hlc.org.uk/event/reserve-highfield-sports-day/
CATEGORIES:Highfield Prep
END:VEVENT
BEGIN:VEVENT
DTSTART;VALUE=DATE:20260629
DTEND;VALUE=DATE:20260701
DTSTAMP:20260424T155400
CREATED:20250729T122535Z
LAST-MODIFIED:20260424T132520Z
UID:57024-1782694800-1782781199@www.hlc.org.uk
SUMMARY:Highfield's Got Talent
DESCRIPTION:All Day Event Location : Assembly Hall
URL:https://www.hlc.org.uk/event/highfields-got-talent-3/
CATEGORIES:Highfield Prep
END:VEVENT
BEGIN:VEVENT
DTSTART;TZID=Europe/Paris:20260701T171500
DTEND;TZID=Europe/Paris:20260701T181500
DTSTAMP:20260424T155400
CREATED:20250729T122535Z
LAST-MODIFIED:20260424T132520Z
UID:57025-1782926100-1782929700@www.hlc.org.uk
SUMMARY:Prep 6 Leavers' Service (Parents welcome)
DESCRIPTION:Start Time : 16:15 End Time : N/A Location : Chapel
URL:https://www.hlc.org.uk/event/prep-6-leavers-service-parents-welcome/
CATEGORIES:Highfield Prep
END:VEVENT
BEGIN:VEVENT
DTSTART;VALUE=DATE:20260703
DTEND;VALUE=DATE:20260705
DTSTAMP:20260424T155400
CREATED:20250703T012508Z
LAST-MODIFIED:20251208T122514Z
UID:54514-1783040400-1783126799@www.hlc.org.uk
SUMMARY:Term Ends
DESCRIPTION:All Day Event
URL:https://www.hlc.org.uk/event/term-ends/
CATEGORIES:Highfield Prep
END:VEVENT
BEGIN:VEVENT
DTSTART;VALUE=DATE:20260703
DTEND;VALUE=DATE:20260705
DTSTAMP:20260424T155400
CREATED:20251021T102514Z
LAST-MODIFIED:20251208T122514Z
UID:74850-1783040400-1783126799@www.hlc.org.uk
SUMMARY:Highfield Speech Day + Prizegiving
DESCRIPTION:All Day Event Location : Sports Hall
URL:https://www.hlc.org.uk/event/highfield-speech-day-prizegiving/
CATEGORIES:Highfield Prep
END:VEVENT
BEGIN:VEVENT
DTSTART;TZID=Europe/Paris:20260703T113000
DTEND;TZID=Europe/Paris:20260703T123000
DTSTAMP:20260424T155400
CREATED:20251208T132516Z
LAST-MODIFIED:20260424T132520Z
UID:82218-1783078200-1783081800@www.hlc.org.uk
SUMMARY:Highfield Speech Day + Prizegiving
DESCRIPTION:Start Time : 10:30 End Time : 12:00 Location : Sports Hall
URL:https://www.hlc.org.uk/event/highfield-speech-day-prizegiving-2/
CATEGORIES:Highfield Prep
END:VEVENT
BEGIN:VEVENT
DTSTART;TZID=Europe/Paris:20260703T120000
DTEND;TZID=Europe/Paris:20260703T130000
DTSTAMP:20260424T155400
CREATED:20250703T012508Z
LAST-MODIFIED:20251021T092514Z
UID:54515-1783080000-1783083600@www.hlc.org.uk
SUMMARY:Highfield Speech Day\, 11:00
DESCRIPTION:Start Time : 11:00 End Time : N/A Location : Sports Hall
URL:https://www.hlc.org.uk/event/highfield-speech-day-1100/
CATEGORIES:Highfield Prep
END:VEVENT
BEGIN:VEVENT
DTSTART;TZID=Europe/Paris:20260703T130000
DTEND;TZID=Europe/Paris:20260703T140000
DTSTAMP:20260424T155400
CREATED:20251208T132516Z
LAST-MODIFIED:20260424T132520Z
UID:82219-1783083600-1783087200@www.hlc.org.uk
SUMMARY:Highfield Term Ends
DESCRIPTION:Start Time : 12:00 End Time : 12:00
URL:https://www.hlc.org.uk/event/highfield-term-ends-7/
CATEGORIES:Highfield Prep
END:VEVENT
END:VCALENDAR